BEGIN:VCALENDAR
VERSION:2.0
PRODID:-//bmw-club-e36-e46.com//NONSGML kigkonsult.se iCalcreator 2.41.92//
CALSCALE:GREGORIAN
METHOD:PUBLISH
UID:62643736-6630-4036-b332-366663313339
X-WR-CALNAME:iCagenda
X-WR-CALDESC:Event Management Extension for Joomla!
X-WR-RELCALID:3E26604A-50F4-4449-8B3E-E4F4932D05B5
X-WR-TIMEZONE:Europe/Berlin
BEGIN:VTIMEZONE
TZID:Europe/Berlin
TZUNTIL:20271031T010000Z
BEGIN:STANDARD
TZNAME:CET
DTSTART:20251026T030000
TZOFFSETFROM:+0200
TZOFFSETTO:+0100
RDATE:20261025T030000
END:STANDARD
BEGIN:DAYLIGHT
TZNAME:CEST
DTSTART:20260329T020000
TZOFFSETFROM:+0100
TZOFFSETTO:+0200
RDATE:20270328T020000
END:DAYLIGHT
END:VTIMEZONE
BEGIN:VEVENT
UID:30366661-3964-4430-b434-633333313564
DTSTAMP:20260421T013643Z
CATEGORIES:Stammtisch Ruhrgebiet/Bergisches Land
CLASS:PUBLIC
DESCRIPTION:
DTSTART:20260418T160000Z
DTEND:20260418T183000Z
GEO:00;0
LOCATION:LUKAS-Kulinarischer Bahnhof Essen\, Prinz-Friedrich-Platz 1\, 4525
 7 Essen Kupferdreh
ORGANIZER:
SEQUENCE:1
SUMMARY:Stammtisch Ruhrgebiet/Bergisches Land
TRANSP:OPAQUE
URL:https://www.bmw-club-e36-e46.com/index.php/component/icagenda/41-stammt
 isch-ruhrgebiet-bergisches-land?layout=vcal
END:VEVENT
END:VCALENDAR
