BEGIN:VCALENDAR
VERSION:2.0
PRODID:-//bmw-club-e36-e46.com//NONSGML kigkonsult.se iCalcreator 2.41.92//
CALSCALE:GREGORIAN
METHOD:PUBLISH
UID:61306439-6636-4337-a463-353331633239
X-WR-CALNAME:iCagenda
X-WR-CALDESC:Event Management Extension for Joomla!
X-WR-RELCALID:3E26604A-50F4-4449-8B3E-E4F4932D05B5
X-WR-TIMEZONE:Europe/Berlin
BEGIN:VTIMEZONE
TZID:Europe/Berlin
TZUNTIL:20270328T010000Z
BEGIN:STANDARD
TZNAME:CET
DTSTART:20241027T030000
TZOFFSETFROM:+0200
TZOFFSETTO:+0100
RDATE:20251026T030000
RDATE:20261025T030000
END:STANDARD
BEGIN:DAYLIGHT
TZNAME:CEST
DTSTART:20250330T020000
TZOFFSETFROM:+0100
TZOFFSETTO:+0200
RDATE:20260329T020000
END:DAYLIGHT
END:VTIMEZONE
BEGIN:VEVENT
UID:37613538-3062-4765-b934-353138616539
DTSTAMP:20260420T234527Z
CATEGORIES:Treffen andere Vereine/IG
CLASS:PUBLIC
DESCRIPTION;ALTREP="CID:<FFFF__=0ABBE548DFE235B58f9e8a93d@coffeebean.com>":
 Ca 250-300 Teilnehmer geplant. Location etwa 2\,5 Stunden von Köln entfern
 t. Die E30 Freunde Köln/Bonn sind Teil der Organisation und werden mit ein
 em eigenen Stand vertreten sein. Nähere Infos folgen noch dieses Jahr.
DTSTART:20250620T132600Z
DTEND:20250622T132600Z
GEO:00;0
LOCATION:
ORGANIZER:
SEQUENCE:1
SUMMARY:1. internationales BMW E30 Meeting anlässlich 50 Jahre BMW 3er
TRANSP:OPAQUE
URL:https://www.bmw-club-e36-e46.com/index.php/component/icagenda/4-1-inter
 nationales-bmw-e30-meeting-anlaesslich-50-jahre-bmw-3er?layout=vcal
END:VEVENT
END:VCALENDAR
