BEGIN:VCALENDAR
VERSION:2.0
PRODID:-//bmw-club-e36-e46.com//NONSGML kigkonsult.se iCalcreator 2.41.92//
CALSCALE:GREGORIAN
METHOD:PUBLISH
UID:30386234-6365-4463-b434-663061656435
X-WR-CALNAME:iCagenda
X-WR-CALDESC:Event Management Extension for Joomla!
X-WR-RELCALID:3E26604A-50F4-4449-8B3E-E4F4932D05B5
X-WR-TIMEZONE:Europe/Berlin
BEGIN:VTIMEZONE
TZID:Europe/Berlin
TZUNTIL:20280326T010000Z
BEGIN:STANDARD
TZNAME:CET
DTSTART:20251026T030000
TZOFFSETFROM:+0200
TZOFFSETTO:+0100
RDATE:20261025T030000
RDATE:20271031T030000
END:STANDARD
BEGIN:DAYLIGHT
TZNAME:CEST
DTSTART:20260329T020000
TZOFFSETFROM:+0100
TZOFFSETTO:+0200
RDATE:20270328T020000
END:DAYLIGHT
END:VTIMEZONE
BEGIN:VEVENT
UID:61356137-3138-4434-b863-386266303338
DTSTAMP:20260423T081408Z
CATEGORIES:Stammtisch Stuttgart
CLASS:PUBLIC
DESCRIPTION:
DTSTART:20260625T160000Z
DTEND:20260625T162500Z
GEO:00;0
LOCATION:Biergarten Waldmeister\, 71111 Waldenbuch\, Burkhardtsmühle 2/1
ORGANIZER:
SEQUENCE:1
SUMMARY:Stammtisch Stuttgart
TRANSP:OPAQUE
URL:https://www.bmw-club-e36-e46.com/index.php/component/icagenda/37-stammt
 isch-stuttgart-3?layout=vcal
END:VEVENT
END:VCALENDAR
