BEGIN:VCALENDAR
VERSION:2.0
PRODID:-//bmw-club-e36-e46.com//NONSGML kigkonsult.se iCalcreator 2.41.92//
CALSCALE:GREGORIAN
METHOD:PUBLISH
UID:63333330-6530-4633-b966-363665303664
X-WR-CALNAME:iCagenda
X-WR-CALDESC:Event Management Extension for Joomla!
X-WR-RELCALID:3E26604A-50F4-4449-8B3E-E4F4932D05B5
X-WR-TIMEZONE:Europe/Berlin
BEGIN:VTIMEZONE
TZID:Europe/Berlin
TZUNTIL:20261025T010000Z
BEGIN:STANDARD
TZNAME:CET
DTSTART:20241027T030000
TZOFFSETFROM:+0200
TZOFFSETTO:+0100
RDATE:20251026T030000
END:STANDARD
BEGIN:DAYLIGHT
TZNAME:CEST
DTSTART:20240331T020000
TZOFFSETFROM:+0100
TZOFFSETTO:+0200
RDATE:20250330T020000
RDATE:20260329T020000
END:DAYLIGHT
END:VTIMEZONE
BEGIN:VEVENT
UID:63663131-6436-4639-b039-663831353032
DTSTAMP:20260424T114359Z
CATEGORIES:Stammtisch Berlin/Brandenburg
CLASS:PUBLIC
DESCRIPTION:
DTSTART:20241214T172400Z
DTEND:20241214T172400Z
GEO:00;0
LOCATION:14193 Berlin
ORGANIZER;CN=:mailto:stephan.ulke@gmx.de
SEQUENCE:1
SUMMARY:Weihnachtsessen BERLIN
TRANSP:OPAQUE
URL:https://www.bmw-club-e36-e46.com/index.php/component/icagenda/3-weihnac
 htsessen-berlin/2024-12-14-18-24?layout=vcal
END:VEVENT
END:VCALENDAR
