BEGIN:VCALENDAR
VERSION:2.0
PRODID:-//bmw-club-e36-e46.com//NONSGML kigkonsult.se iCalcreator 2.41.92//
CALSCALE:GREGORIAN
METHOD:PUBLISH
UID:63386333-3735-4861-b038-353436313262
X-WR-CALNAME:iCagenda
X-WR-CALDESC:Event Management Extension for Joomla!
X-WR-RELCALID:3E26604A-50F4-4449-8B3E-E4F4932D05B5
X-WR-TIMEZONE:Europe/Berlin
BEGIN:VTIMEZONE
TZID:Europe/Berlin
TZUNTIL:20271031T010000Z
BEGIN:STANDARD
TZNAME:CET
DTSTART:20251026T030000
TZOFFSETFROM:+0200
TZOFFSETTO:+0100
RDATE:20261025T030000
END:STANDARD
BEGIN:DAYLIGHT
TZNAME:CEST
DTSTART:20250330T020000
TZOFFSETFROM:+0100
TZOFFSETTO:+0200
RDATE:20260329T020000
RDATE:20270328T020000
END:DAYLIGHT
END:VTIMEZONE
BEGIN:VEVENT
UID:61636535-3132-4763-b038-663934396431
DTSTAMP:20260421T142701Z
CATEGORIES:MESSE allgemein
CLASS:PUBLIC
DESCRIPTION:
DTSTART:20260321T110000Z
DTEND:20260322T110000Z
GEO:00;0
LOCATION:
ORGANIZER:
SEQUENCE:1
SUMMARY:Technorama Kassel
TRANSP:OPAQUE
URL:https://www.bmw-club-e36-e46.com/index.php/component/icagenda/24-techno
 rama-kassel?layout=vcal
END:VEVENT
END:VCALENDAR
