BEGIN:VCALENDAR
VERSION:2.0
PRODID:-//bmw-club-e36-e46.com//NONSGML kigkonsult.se iCalcreator 2.41.92//
CALSCALE:GREGORIAN
METHOD:PUBLISH
UID:66303463-3239-4034-a630-623534326430
X-WR-CALNAME:iCagenda
X-WR-CALDESC:Event Management Extension for Joomla!
X-WR-RELCALID:3E26604A-50F4-4449-8B3E-E4F4932D05B5
X-WR-TIMEZONE:Europe/Berlin
BEGIN:VTIMEZONE
TZID:Europe/Berlin
TZUNTIL:20271031T010000Z
BEGIN:STANDARD
TZNAME:CET
DTSTART:20251026T030000
TZOFFSETFROM:+0200
TZOFFSETTO:+0100
RDATE:20261025T030000
END:STANDARD
BEGIN:DAYLIGHT
TZNAME:CEST
DTSTART:20250330T020000
TZOFFSETFROM:+0100
TZOFFSETTO:+0200
RDATE:20260329T020000
RDATE:20270328T020000
END:DAYLIGHT
END:VTIMEZONE
BEGIN:VEVENT
UID:65636431-3233-4732-a337-663234653765
DTSTAMP:20260421T125838Z
CATEGORIES:MESSE E36/E46 stellt aus
CLASS:PUBLIC
DESCRIPTION:
DTSTART:20260222T105700Z
DTEND:20260222T105700Z
GEO:00;0
LOCATION:Stuttgart Messe
ORGANIZER:
SEQUENCE:1
SUMMARY:RETRO Classics Stuttgart 2026
TRANSP:OPAQUE
URL:https://www.bmw-club-e36-e46.com/index.php/component/icagenda/23-retro-
 26-stg/2026-02-22-11-57?layout=vcal
END:VEVENT
END:VCALENDAR
