BEGIN:VCALENDAR
VERSION:2.0
PRODID:-//bmw-club-e36-e46.com//NONSGML kigkonsult.se iCalcreator 2.41.92//
CALSCALE:GREGORIAN
METHOD:PUBLISH
UID:37393134-3237-4463-b764-633962656132
X-WR-CALNAME:iCagenda
X-WR-CALDESC:Event Management Extension for Joomla!
X-WR-RELCALID:3E26604A-50F4-4449-8B3E-E4F4932D05B5
X-WR-TIMEZONE:Europe/Berlin
BEGIN:VTIMEZONE
TZID:Europe/Berlin
TZUNTIL:20261025T010000Z
BEGIN:STANDARD
TZNAME:CET
DTSTART:20241027T030000
TZOFFSETFROM:+0200
TZOFFSETTO:+0100
RDATE:20251026T030000
END:STANDARD
BEGIN:DAYLIGHT
TZNAME:CEST
DTSTART:20240331T020000
TZOFFSETFROM:+0100
TZOFFSETTO:+0200
RDATE:20250330T020000
RDATE:20260329T020000
END:DAYLIGHT
END:VTIMEZONE
BEGIN:VEVENT
UID:37303633-3963-4263-b931-363536313333
DTSTAMP:20260423T150002Z
CATEGORIES:Stammtisch NRW
CLASS:PUBLIC
DESCRIPTION:
DTSTART:20241122T170300Z
DTEND:20241122T170300Z
GEO:00;0
LOCATION:Ratingen
ORGANIZER;CN=:mailto:messe@bmw-club-e36-e46.com
SEQUENCE:1
SUMMARY:Jahresabschluß mit Gansessen
TRANSP:OPAQUE
URL:https://www.bmw-club-e36-e46.com/index.php/component/icagenda/2-jahresa
 bschluss-mit-gansessen/2024-11-22-18-03?layout=vcal
END:VEVENT
END:VCALENDAR
