BEGIN:VCALENDAR
VERSION:2.0
PRODID:-//bmw-club-e36-e46.com//NONSGML kigkonsult.se iCalcreator 2.41.92//
CALSCALE:GREGORIAN
METHOD:PUBLISH
UID:39313466-6332-4638-b335-343337636636
X-WR-CALNAME:iCagenda
X-WR-CALDESC:Event Management Extension for Joomla!
X-WR-RELCALID:3E26604A-50F4-4449-8B3E-E4F4932D05B5
X-WR-TIMEZONE:Europe/Berlin
BEGIN:VTIMEZONE
TZID:Europe/Berlin
TZUNTIL:20261025T010000Z
BEGIN:STANDARD
TZNAME:CET
DTSTART:20241027T030000
TZOFFSETFROM:+0200
TZOFFSETTO:+0100
RDATE:20251026T030000
END:STANDARD
BEGIN:DAYLIGHT
TZNAME:CEST
DTSTART:20250330T020000
TZOFFSETFROM:+0100
TZOFFSETTO:+0200
RDATE:20260329T020000
END:DAYLIGHT
END:VTIMEZONE
BEGIN:VEVENT
UID:30346335-3166-4665-a266-373166326139
DTSTAMP:20260421T225708Z
CATEGORIES:Stammtisch Stuttgart
CLASS:PUBLIC
DESCRIPTION;ALTREP="CID:<FFFF__=0ABBE548DFE235B58f9e8a93d@coffeebean.com>":
 Treffen ab 18:00\, Ende offenAnmeldung gerne an reiner@bmw-club-e36-e46.co
 m 
DTSTART:20250423T220000Z
DTEND:20250423T220000Z
GEO:00;0
LOCATION:Biergarten Waldmeister\, 71111 Waldenbuch\, Burkhardtsmühle 2/1
ORGANIZER:
SEQUENCE:1
SUMMARY:Stammtisch Stuttgart ERÖFFNUNG
TRANSP:OPAQUE
URL:https://www.bmw-club-e36-e46.com/index.php/component/icagenda/15-stammt
 isch-stuttgart-eroeffnung?layout=vcal
END:VEVENT
END:VCALENDAR
